Workbook

Sheet 5.3.1
A1: Broj korisnika zdravstvene zaštite i kontakata po korisniku u djelatnosti zdravstvene zaštite dojenčadi i predškolske djece u Međimurskoj županiji u 2024. godini
A3: Dob(godine) | B3: Broj korisnika | E3: Broj kontakata
B4: M | C4: Ž | D4: Ukupno | E4: M | F4: Ž | G4: Ukupno
A5: 0 | B5: 321 | C5: 298 | D5: 619 | E5: 6054 | F5: 5426 | G5: 11480
A6: 1 | B6: 376 | C6: 391 | D6: 767 | E6: 6248 | F6: 5913 | G6: 12161
A7: 2 | B7: 345 | C7: 313 | D7: 658 | E7: 4624 | F7: 3941 | G7: 8565
A8: 3 | B8: 381 | C8: 316 | D8: 697 | E8: 4588 | F8: 3540 | G8: 8128
A9: 4 | B9: 387 | C9: 323 | D9: 710 | E9: 3805 | F9: 3270 | G9: 7075
A10: 5 | B10: 354 | C10: 321 | D10: 675 | E10: 3430 | F10: 3096 | G10: 6526
A11: 6 | B11: 366 | C11: 362 | D11: 728 | E11: 2950 | F11: 2868 | G11: 5818
A12: 0-6 ukupno | B12: =SUM(B5:B11) -> 2530 | C12: =SUM(C5:C11) -> 2324 | D12: =SUM(D5:D11) -> 4854 | E12: =SUM(E5:E11) -> 31699 | F12: =SUM(F5:F11) -> 28054 | G12: =SUM(G5:G11) -> 59753
A13: 7-14 | B13: 1382 | C13: 1301 | D13: 2683 | E13: 7950 | F13: 7712 | G13: 15662
A14: 15-18 | B14: 26 | C14: 20 | D14: 46 | E14: 59 | F14: 51 | G14: 110
A15: >19 | B15: 0 | C15: 0 | D15: 0 | E15: 0 | F15: 0 | G15: 0
A16: ukupno | B16: =SUM(B12:B15) -> 3938 | C16: =SUM(C12:C15) -> 3645 | D16: =SUM(D12:D15) -> 7583 | E16: =SUM(E12:E15) -> 39708 | F16: =SUM(F12:F15) -> 35817 | G16: =SUM(G12:G15) -> 75525
A18: Izvor podataka: Podaci CEZIH-a za 2024. godinu. Hrvatski zavod za javno zdravstvo.
A19: Obrada: ZZJZ Međimurske županije

Sheet 5.3.2
A1: Broj kontakata po korisniku u 2024. godini
A3: Dob(godine) | B3: M | C3: Ž | D3: Ukupno
A4: 0 | B4: ='5.3.1'!E5/'5.3.1'!B5 -> 18.859813 | C4: ='5.3.1'!F5/'5.3.1'!C5 -> 18.208054 | D4: ='5.3.1'!G5/'5.3.1'!D5 -> 18.546042
A5: 1 | B5: ='5.3.1'!E6/'5.3.1'!B6 -> 16.617021 | C5: ='5.3.1'!F6/'5.3.1'!C6 -> 15.122762 | D5: ='5.3.1'!G6/'5.3.1'!D6 -> 15.85528
A6: 2 | B6: ='5.3.1'!E7/'5.3.1'!B7 -> 13.402899 | C6: ='5.3.1'!F7/'5.3.1'!C7 -> 12.591054 | D6: ='5.3.1'!G7/'5.3.1'!D7 -> 13.016717
A7: 3 | B7: ='5.3.1'!E8/'5.3.1'!B8 -> 12.041995 | C7: ='5.3.1'!F8/'5.3.1'!C8 -> 11.202532 | D7: ='5.3.1'!G8/'5.3.1'!D8 -> 11.661406
A8: 4 | B8: ='5.3.1'!E9/'5.3.1'!B9 -> 9.8320413 | C8: ='5.3.1'!F9/'5.3.1'!C9 -> 10.123839 | D8: ='5.3.1'!G9/'5.3.1'!D9 -> 9.9647887
A9: 5 | B9: ='5.3.1'!E10/'5.3.1'!B10 -> 9.6892655 | C9: ='5.3.1'!F10/'5.3.1'!C10 -> 9.6448598 | D9: ='5.3.1'!G10/'5.3.1'!D10 -> 9.6681481
A10: 6 | B10: ='5.3.1'!E11/'5.3.1'!B11 -> 8.0601093 | C10: ='5.3.1'!F11/'5.3.1'!C11 -> 7.9226519 | D10: ='5.3.1'!G11/'5.3.1'!D11 -> 7.9917582
A11: 0-6 ukupno | B11: ='5.3.1'!E12/'5.3.1'!B12 -> 12.529249 | C11: ='5.3.1'!F12/'5.3.1'!C12 -> 12.071429 | D11: ='5.3.1'!G12/'5.3.1'!D12 -> 12.310054
A12: 7-14 | B12: ='5.3.1'!E13/'5.3.1'!B13 -> 5.7525326 | C12: ='5.3.1'!F13/'5.3.1'!C13 -> 5.9277479 | D12: ='5.3.1'!G13/'5.3.1'!D13 -> 5.8374953
A13: 15-18 | B13: ='5.3.1'!E14/'5.3.1'!B14 -> 2.2692308 | C13: ='5.3.1'!F14/'5.3.1'!C14 -> 2.55 | D13: ='5.3.1'!G14/'5.3.1'!D14 -> 2.3913043
A14: >19 | B14: 0 | C14: 0 | D14: 0
A15: Ukupno | B15: ='5.3.1'!E16/'5.3.1'!B16 -> 10.083291 | C15: ='5.3.1'!F16/'5.3.1'!C16 -> 9.8263374 | D15: ='5.3.1'!G16/'5.3.1'!D16 -> 9.9597785
A18: Izvor podataka: Podaci CEZIH-a za 2024. godinu. Hrvatski zavod za javno zdravstvo.
A19: Obrada: ZZJZ Međimurske županije

Sheet 5.3.3
A1: Pregledi u djelatnosti zdravstvene zaštite dojenčadi i predškolske djece u Međimurskoj županiji u 2024. godini
A3: Dob(godine) | B3: Ukupan broj pregleda | E3: Broj svih posjeta i pregleda kod kuće(PD100-PD103) | H3: Od toga broj kućnih posjeta u palijativnoj skrbi(PD102-PD103)
B4: M | C4: Ž | D4: Ukupno | E4: M | F4: Ž | G4: Ukupno | H4: M | I4: Ž | J4: Ukupno
A5: 0-6 | B5: 15792 | C5: 13793 | D5: 29585 | E5: 1 | F5: 1 | G5: 2 | H5: 0 | I5: 1 | J5: 1
A6: 7-14 | B6: 2886 | C6: 2755 | D6: 5641 | E6: 0 | F6: 0 | G6: 0 | H6: 0 | I6: 0 | J6: 0
A7: 15-18 | B7: 19 | C7: 15 | D7: 34 | E7: 0 | F7: 0 | G7: 0 | H7: 0 | I7: 0 | J7: 0
A8: >19 | B8: 0 | C8: 0 | D8: 0 | E8: 0 | F8: 0 | G8: 0 | H8: 0 | I8: 0 | J8: 0
A9: Ukupno | B9: =SUM(B5:B8) -> 18697 | C9: =SUM(C5:C8) -> 16563 | D9: =SUM(D5:D8) -> 35260 | E9: 1 | F9: 1 | G9: 2 | H9: 0 | I9: 1 | J9: 1
L10: Ukupan broj pregleda izračunat je preko zabilježenih odgovarajućih DTP-ova:
L11: PD001 | M11: Prvi pregled | N11: Kurativa
A12: Izvor podataka: Podaci CEZIH-a za 2024. godinu. Hrvatski zavod za javno zdravstvo. | L12: PD002 | M12: Kontrolni pregled | N12: Kurativa
A13: Obrada: ZZJZ Međimurske županije | L13: PD025 | M13: Namjenski pregled uključujući savjetovanje s roditeljima/starateljem | N13: Preventiva
L14: PD029 | M14: Kontrolni pregled nakon sistematskog pregleda dojenčeta | N14: Preventiva
L15: PD030 | M15: Kontrolni pregled nakon sistematskog pregleda predškolskog djeteta | N15: Preventiva
L16: PD031 | M16: Kontrolni pregled nakon sistematskog pregleda djeteta s visokim neurorizikom | N16: Preventiva
L17: PD100 | M17: Prvi pregled kod kuće | N17: Kurativa
L18: PD101 | M18: Kontrolni pregled kod kuće | N18: Kurativa
L19: PD102 | M19: Prva kućna posjeta u palijativnoj skrbi | N19: Kurativa
L20: PD103 | M20: Kontrolna kućna posjeta u palijativnoj skrbi | N20: Kurativa
L21: PD112 | M21: Namjenski pregled | N21: Kurativa
L22: PD160 | M22: Sistematski pregled dojenčadi | N22: Preventiva
L23: PD161 | M23: Sistematski pregled predškolskog djeteta | N23: Preventiva
L24: PD162 | M24: Sistematski pregled djeteta s visokim neurorizikom | N24: Preventiva
L25: PD163 | M25: Prvi sistematski pregled dojenčeta do 2. mjeseca života | N25: Preventiva
... L29: PD174 | M29: Pregled neopredijeljene osigurane osobe - migrirajuće | N29: Kurativa

Sheet 5.3.4
A1: Savjetovanja/konzultacije u djelatnosti zdravstvene zaštite dojenčadi i predškolske djece u Međimurskoj županiji u 2024. godini
A3: Dob(godine) | B3: Ukupno savjetovanja | E3: Preventivna savjetovanja | H3: Kurativna savjetovanja
B4: M | C4: Ž | D4: Ukupno | E4: M | F4: Ž | G4: Ukupno | H4: M | I4: Ž | J4: Ukupno
A5: 0-6 | B5: 16469 | C5: 14889 | D5: 31358 | E5: 2009 | F5: 1793 | G5: 3802 | H5: 14460 | I5: 13096 | J5: 27556
A6: 7-14 | B6: 4440 | C6: 4180 | D6: 8620 | E6: 9 | F6: 6 | G6: 15 | H6: 4431 | I6: 4174 | J6: 8605
A7: 15-18 | B7: 31 | C7: 28 | D7: 59 | E7: 0 | F7: 0 | G7: 0 | H7: 31 | I7: 28 | J7: 59
A8: >19 | B8: 0 | C8: 0 | D8: 0 | E8: 0 | F8: 0 | G8: 0 | H8: 0 | I8: 0 | J8: 0
A9: Ukupno | B9: 20940 | C9: 19097 | D9: 40037 | E9: 2018 | F9: 1799 | G9: 3817 | H9: 18922 | I9: 17298 | J9: 36220
L10: Ukupan broj savjetovanja/konzultacija je izračunat preko zabilježenih odgovarajućih DTP-ova:
L11: PD021 | M11: Telefonska konzultacija s medicinskom sestrom | N11: Kurativa
A12: Izvor podataka: Podaci CEZIH-a za 2024. godinu. Hrvatski zavod za javno zdravstvo. | L12: PD028 | M12: Individualno savjetovanje roditelja zdravog djeteta | N12: Preventiva
A13: Obrada: ZZJZ Međimurske županije | L13: PD032 | M13: Individualno savjetovanje roditelja djeteta s poteškoćama u razvoju | N13: Preventiva
L14: PD104 | M14: Savjetovanje s roditeljem/starateljem bolesnika | N14: Kurativa
L15: PD105 | M15: Prošireno savjetovanje s roditeljem/starateljem kroničnog bolesnika | N15: Kurativa
L16: PD106 | M16: Savjetovanje s obitelji | N16: Kurativa
L17: PD107 | M17: Savjet telefonom bolesniku ili članu obitelji | N17: Kurativa
L18: PD108 | M18: Psihološka podrška i savjet | N18: Kurativa
L19: PD150 | M19: Savjet e-mailom bolesniku ili članu obitelji | N19: Kurativa

Sheet 5.3.5
A1: Dob djece kod koje je obavljen sistematski pregled (navršeni mjeseci/ godine) u djelatnosti zdravstvene zaštite dojenčadi i predškolske djece u Međimurskoj županiji u 2024. godini
B3: Ukupno | C3: Dob djeteta(navršeni mjeseci/godine)
C4: 0-2 mj. | D4: 3-5 mj. | E4: 6-11 mj. | F4: 1-3 g. | G4: 4-6 g.
A5: Broj sistematskih pregleda | B5: =SUM(C5:G5) -> 4794 | C5: 941 | D5: 578 | E5: 1107 | F5: 1314 | G5: 854
A6: Broj korisnika | B6: =SUM(C6:G6) -> 4854 | C6: 619 | F6: 2122 | G6: 2113
A9: Izvor podataka: Podaci CEZIH-a za 2024. godinu. Hrvatski zavod za javno zdravstvo.
A10: Obrada: ZZJZ Međimurske županije

Sheet 5.3.6
A1: Pregledi i savjetovanja/konzultacije za djecu predškolske dobi u djelatnosti zdravstvene zaštite dojenčadi i predškolske djece u Međimurskoj županiji u 2024. godini
A3: Dob(godine) | B3: Pregleda | E3: Savjetovanja/konzultacija
B4: Kurativnih | C4: Preventivnih | D4: Ukupno | E4: Kurativnih | F4: Preventivnih | G4: Ukupno
A5: 0 | B5: 3727 | C5: 2976 | D5: 6703 | E5: 4756 | F5: 2181 | G5: 6937
A6: 1 | B6: 5368 | C6: 1255 | D6: 6623 | E6: 5350 | F6: 780 | G6: 6130
A7: 2 | B7: 3878 | C7: 201 | D7: 4079 | E7: 4106 | F7: 104 | G7: 4210
A8: 3 | B8: 3579 | C8: 170 | D8: 3749 | E8: 4000 | F8: 148 | G8: 4148
A9: 4 | B9: 2960 | C9: 180 | D9: 3140 | E9: 3190 | F9: 159 | G9: 3349
A10: 5 | B10: 2448 | C10: 547 | D10: 2995 | E10: 3054 | F10: 366 | G10: 3420
A11: 6 | B11: 2169 | C11: 127 | D11: 2296 | E11: 3100 | F11: 64 | G11: 3164
A12: Ukupno | B12: 24129 | C12: 5456 | D12: 29585 | E12: 27556 | F12: 3802 | G12: 31358
A15: Izvor podataka: Podaci CEZIH-a za 2024. godinu. Hrvatski zavod za javno zdravstvo.
A16: Obrada: ZZJZ Međimurske županije

Sheet 5.3.7
A1: Broj i vrsta izdanih uputnica u djelatnosti zdravstvene zaštite dojenčadi i predškolske djece u Međimurskoj županiji u 2024. godini
A3: Vrsta uputnice | B3: Dobne skupine (godine)
B4: 0-6 | C4: 7-14 | D4: 15-18 | E4: >19 | F4: Ukupno
A5: A1 Konzilijarni pregled | B5: 2582 | C5: 1117 | D5: 8 | E5: 0 | F5: 3707
A6: A2 Kontrolni konzilijarni pregled | B6: 2336 | C6: 1469 | D6: 14 | E6: 0 | F6: 3819
A7: A3 Dijagnostička pretraga | B7: 6433 | C7: 2452 | D7: 28 | E7: 0 | F7: 8913
A8: A4 Drugo mišljenje prema indikaciji izabranog doktora | B8: 3 | C8: 1 | D8: 0 | E8: 0 | F8: 4
A9: A5 Konzultacije (uputnica bez osigurane osobe) | B9: 81 | C9: 31 | D9: 1 | E9: 0 | F9: 113
A10: A6 Kontrolna dijagnostička pretraga | B10: 239 | C10: 72 | D10: 0 | E10: 0 | F10: 311
A11: B1 Bolničko liječenje | B11: 443 | C11: 83 | D11: 0 | E11: 0 | F11: 526
A12: B2 Ponavljajuće bolničko liječenje | B12: 0 | C12: 1 | D12: 0 | E12: 0 | F12: 1
A13: C1 Pregled i cjelovita obrada u specijalističkoj zdravstvenoj zaštiti | B13: 138 | C13: 47 | D13: 0 | E13: 0 | F13: 185
A14: C2 Pregled i obrada kroz OHBP na koju upućuje izabrani doktor PZZ-a | B14: 307 | C14: 147 | D14: 0 | E14: 0 | F14: 454
A15: D1 Ambulantno liječenje | B15: 808 | C15: 384 | D15: 1 | E15: 0 | F15: 1193
A16: D2 Dnevna bolnica | B16: 754 | C16: 186 | D16: 0 | E16: 0 | F16: 940
A17: Ukupno | B17: 14124 | C17: 5990 | D17: 52 | E17: 0 | F17: 20166
A21: Izvor podataka: Podaci CEZIH-a za 2024. godinu. Hrvatski zavod za javno zdravstvo.
A22: Obrada: ZZJZ Međimurske županije

Sheet 5.3.8
A1: Broj izdanih uputnica po korisniku u djelatnosti zdravstvene zaštite dojenčadi i predškolske djece u Međimurskoj županiji u 2024. godini
A3: Dob(godine) | B3: Broj korisnika | C3: Broj uputnica | D3: Broj uputnica po korisniku | E3: Broj pregleda | F3: Broj pregleda u odnosu na broj uputnica
A4: 0-6 | B4: 4854 | C4: 14124 | D4: 2.9097651 | E4: 29585 | F4: 2.0946616
A5: 7-14 | B5: 2683 | C5: 5990 | D5: 2.2325755 | E5: 5641 | F5: 0.94173623
A6: 15-18 | B6: 46 | C6: 52 | D6: 1.1304348 | E6: 34 | F6: 0.65384615
A7: >19 | B7: 0 | C7: 0 | D7: 0 | E7: 0 | F7: 0
A8: Ukupno | B8: 7583 | C8: 20166 | D8: 2.6593696 | E8: 35260 | F8: 1.7484876
A11: Izvor podataka: Podaci CEZIH-a za 2024. godinu. Hrvatski zavod za javno zdravstvo.
A12: Obrada: ZZJZ Međimurske županije

Sheet 5.3.9
A1: Deset najčešćih djelatnosti u koje su se upućivali pacijenti u djelatnosti zdravstvene zaštite dojenčadi i predškolske djece u Međimurskoj županiji u 2024. godini
A3: Djelatnost upućivanja | B3: Ukupno
B4: Broj | C4: Udio (%)
A5: Medicinska mikrobiologija s parazitologijom | B5: 4381 | C5: =B5/20166*100 -> 21.724685
A6: Medicinska biokemija | B6: 1483 | C6: =B6/20166*100 -> 7.3539621
A7: Otorinolaringologija | B7: 1274 | C7: =B7/20166*100 -> 6.3175642
A8: Dječja oftalmologija i strabologija | B8: 921 | C8: =B8/20166*100 -> 4.5670931
A9: Dječja kirurgija | B9: 829 | C9: =B9/20166*100 -> 4.1108797
A10: Radiologija (klasične i kontrastne pretrage) | B10: 734 | C10: =B10/20166*100 -> 3.6397897
A11: Pedijatrijska neurologija | B11: 685 | C11: =B11/20166*100 -> 3.3968065
A12: Pedijatrija -dnevna bolnica | B12: 671 | C12: =B12/20166*100 -> 3.3273827
A13: Logopedija | B13: 613 | C13: 3.1
A14: Fizikalna medicina i rehabilitacija | B14: 531 | C14: =B14/20166*100 -> 2.6331449
A15: Ostalo | B15: =B16- SUM(B5:B14) -> 8044 | C15: =B15/20166*100 -> 39.888922
A16: Ukupno | B16: 20166 | C16: =B16/20166*100 -> 100
A19: Izvor podataka: Podaci CEZIH-a za 2024. godinu. Hrvatski zavod za javno zdravstvo.
A20: Obrada: ZZJZ Međimurske županije

Sheet 5.3.10
A1: Broj izdanih recepata, po grupama, u djelatnosti zdravstvene zaštite dojenčadi i predškolske djece u Međimurskoj županiji u 2024. godini
A3: Lijekovi | B3: 0-6 g. | C3: 7-14 g. | D3: 15-18 g. | E3: >19 g. | F3: Ukupno
F4: Broj | G4: %
A5: za liječenje sustavnih infekcija (izuzev infekcija uzrokovanih parazitima) | B5: 9578 | C5: 2762 | D5: 22 | E5: 0 | F5: =SUM(B5:E5) -> 12362 | G5: =F5/41806*100 -> 29.569918
A6: s djelovanjem na sustav dišnih organa | B6: 9097 | C6: 2959 | D6: 17 | E6: 0 | F6: =SUM(B6:E6) -> 12073 | G6: =F6/41806*100 -> 28.87863
A7: s djelovanjem na kožu | B7: 3535 | C7: 832 | D7: 2 | E7: 0 | F7: =SUM(B7:E7) -> 4369 | G7: 10.4
A8: s djelovanjem na osjetila | B8: 3389 | C8: 574 | D8: 2 | E8: 0 | F8: =SUM(B8:E8) -> 3965 | G8: =F8/41806*100 -> 9.4842846
A9: s djelovanjem na probavni sustav i mijenu tvari | B9: 2900 | C9: 256 | D9: 1 | E9: 0 | F9: =SUM(B9:E9) -> 3157 | G9: =F9/41806*100 -> 7.5515476
A10: s djelovanjem na koštano-mišićni sustav | B10: 1111 | C10: 376 | D10: 6 | E10: 0 | F10: =SUM(B10:E10) -> 1493 | G10: =F10/41806*100 -> 3.5712577
A11: s djelovanjem na krv i krvotvorne organe | B11: 995 | C11: 71 | D11: 0 | E11: 0 | F11: =SUM(B11:E11) -> 1066 | G11: =F11/41806*100 -> 2.5498732
A12: za liječenje infekcija uzrokovanih parazitima | B12: 684 | C12: 325 | D12: 1 | E12: 0 | F12: =SUM(B12:E12) -> 1010 | G12: =F12/41806*100 -> 2.4159212
A13: Različito | B13: 641 | C13: 270 | D13: 0 | E13: 0 | F13: =SUM(B13:E13) -> 911 | G13: =F13/41806*100 -> 2.179113
A14: s djelovanjem na živčani sustav | B14: 354 | C14: 284 | D14: 5 | E14: 0 | F14: =SUM(B14:E14) -> 643 | G14: =F14/41806*100 -> 1.5380567
A15: s djelovanjem na sustav žlijezda s unutarnjim lučenjem (izuzev spolnih hormona) | B15: 70 | C15: 308 | D15: 1 | E15: 0 | F15: =SUM(B15:E15) -> 379 | G15: =F15/41806*100 -> 0.90656844
A16: s djelovanjem na srce i krvožilje | B16: 129 | C16: 37 | D16: 0 | E16: 0 | F16: =SUM(B16:E16) -> 166 | G16: =F16/41806*100 -> 0.39707219
A17: s djelovanjem na mokraćni sustav i spolni hormoni | B17: 70 | C17: 41 | D17: 0 | E17: 0 | F17: =SUM(B17:E17) -> 111 | G17: =F17/41806*100 -> 0.26551213
A18: za liječenje zloćudnih bolesti i imunomodulatori | B18: 48 | C18: 53 | D18: 0 | E18: 0 | F18: =SUM(B18:E18) -> 101 | G18: =F18/41806*100 -> 0.24159212
A19: nepoznato | B19: 0 | C19: 0 | D19: 0 | E19: 0 | F19: 0 | G19: =F19/41806*100 -> 0
A20: ukupno | B20: =SUM(B5:B19) -> 32601 | C20: =SUM(C5:C19) -> 9148 | D20: =SUM(D5:D19) -> 57 | E20: =SUM(E5:E19) -> 0 | F20: =SUM(F5:F19) -> 41806 | G20: =F20/41806*100 -> 100
A24: Izvor podataka: Podaci CEZIH-a za 2024. godinu. Hrvatski zavod za javno zdravstvo.
A25: Obrada: ZZJZ Međimurske županije

Sheet 5.3.11
A1: Deset najčešćih izdanih recepata, po podgrupama, u djelatnosti zdravstvene zaštite dojenčadi i predškolske djece u Međimurskoj županiji u 2024. godini
A3: Podgrupa lijeka | B3: Izdano recepata
B4: Broj | C4: Udio (%)
A5: Beta-laktamski antimikrobici, penicilini | B5: 7007 | C5: =B5/41806*100 -> 16.760752
A6: Lijekovi za opstruktivne bolesti dišnih puteva | B6: 5062 | C6: =B6/41806*100 -> 12.10831
A7: Lijekovi za liječenje bolesti nosa | B7: 3199 | C7: =B7/41806*100 -> 7.6520117
A8: Makrolidi, linkozamidi i streptogramini | B8: 2646 | C8: =B8/41806*100 -> 6.329235
A9: Ostali beta-laktamski antimikrobici | B9: 2538 | C9: =B9/41806*100 -> 6.0708989
A10: Antiinfektivi | B10: 2490 | C10: =B10/41806*100 -> 5.9560829
A11: Antihistaminici za sustavnu primjenu | B11: 2393 | C11: =B11/41806*100 -> 5.7240587
A12: Vitamini | B12: 2009 | C12: =B12/41806*100 -> 4.8055303
A13: Derivati propionske kiseline | B13: 1457 | C13: =B13/41806*100 -> 3.4851457
A14: Antibiotici i kemoterapeutci za primjenu u liječenju kožnih bolesti | B14: 1159 | C14: =B14/41806*100 -> 2.7723293
A15: Ostalo | B15: =B16- SUM(B5:B14) -> 11846 | C15: =B15/41806*100 -> 28.335646
A16: Ukupan broj svih izdanih recepata | B16: 41806 | C16: =B16/41806*100 -> 100
A19: Izvor podataka: Podaci CEZIH-a za 2024. godinu. Hrvatski zavod za javno zdravstvo.
A20: Obrada: ZZJZ Međimurske županije

Sheet 5.3.12
A1: Broj zabilježenih dijagnoza u djelatnosti zdravstvene zaštite dojenčadi i predškolske djece u Međimurskoj županiji u 2024. godini
A3: MKB-10 dijagnoza | C3: Muški | D3: Ženski | E3: Ukupno | F3: Udio (%)
A4: A00-B99 | B4: Zarazne i parazitarne bolesti | C4: 2904 | D4: 2735 | E4: 5639 | F4: =E4/53408*100 -> 10.558343
A5: C00-D48 | B5: Novotvorine | C5: 82 | D5: 106 | E5: 188 | F5: =E5/53408*100 -> 0.35200719
A6: D50-D89 | B6: Bolesti krvi i krvotvornog sustava, te određene bolesti imunosnog sustava | C6: 400 | D6: 291 | E6: 691 | F6: =E6/53408*100 -> 1.2938137
A7: E00-E90 | B7: Endokrine bolesti, bolesti prehrane i bolesti metabolizma | C7: 179 | D7: 211 | E7: 390 | F7: =E7/53408*100 -> 0.73022768
A8: F00-F99 | B8: Mentalni poremećaji i poremećaji ponašanja | C8: 490 | D8: 283 | E8: 773 | F8: =E8/53408*100 -> 1.4473487
A9: G00-G99 | B9: Bolesti živčanog sustava | C9: 187 | D9: 143 | E9: 330 | F9: =E9/53408*100 -> 0.61788496
A10: H00-H59 | B10: Bolesti oka i očnih adneksa | C10: 1137 | D10: 1036 | E10: 2173 | F10: =E10/53408*100 -> 4.0686788
A11: H60-H95 | B11: Bolesti uha i mastoidnog nastavka | C11: 2236 | D11: 2011 | E11: 4247 | F11: =E11/53408*100 -> 7.9519922
A12: I00-I99 | B12: Bolesti cirkulacijskog sustava | C12: 31 | D12: 18 | E12: 49 | F12: =E12/53408*100 -> 0.091746555
A13: J00-J99 | B13: Bolesti dišnoga sustava | C13: 7798 | D13: 6757 | E13: 14555 | F13: =E13/53408*100 -> 27.252472
A14: K00-K93 | B14: Bolesti probavnoga sustava | C14: 300 | D14: 280 | E14: 580 | F14: =E14/53408*100 -> 1.0859796
A15: L00-L99 | B15: Bolesti kože i potkožnoga tkiva | C15: 1442 | D15: 1375 | E15: 2817 | F15: =E15/53408*100 -> 5.2744907
... A24: Z00-Z99 | B24: Čimbenici koji utječu na stanje zdravlja i kontakt sa zdravstvenom službom | C24: 5445 | D24: 5085 | E24: 10530 | F24: =E24/53408*100 -> 19.716147
A25: Ukupno | C25: =SUM(C4:C24) -> 28280 | D25: =SUM(D4:D24) -> 25128 | E25: =SUM(E4:E24) -> 53408 | F25: =E25/53408*100 -> 100
A26: V01-Y98 | B26: Vanjski uzroci morbiditeta i mortaliteta | C26: 672 | D26: 485 | E26: 1157
A30: Izvor podataka: Podaci CEZIH-a za 2024. godinu. Hrvatski zavod za javno zdravstvo.
A31: Obrada: ZZJZ Međimurske županije

Sheet 5.3.13
A1: Najčešće zabilježene dijagnoze u djelatnosti zdravstvene zaštite dojenčadi i predškolske djece u Međimurskoj županiji u 2024. godini
A3: Naziv dijagnoza i MKB šifra | B3: Muški | C3: Ženski | D3: Ukupno
A4: J00-J06 Akutne infekcije gornjega dišnog sustava | B4: 5192 | C4: 4809 | D4: =SUM(B4:C4) -> 10001
A5: Z00-Z13 Osobe koje se koriste zdravstvenom službom zbog pregleda i istraživanja | B5: 3361 | C5: 3097 | D5: =SUM(B5:C5) -> 6458
A6: Z20-Z29 Osobe s potencijalnom opasnošću za zdravlje zbog zaraznih bolesti | B6: 1944 | C6: 1846 | D6: =SUM(B6:C6) -> 3790
A7: R50-R69Opći simptomi i znakovi | B7: 1796 | C7: 1615 | D7: =SUM(B7:C7) -> 3411
A8: H65-H75 Bolesti srednjeg uha i mastoida | B8: 1550 | C8: 1322 | D8: =SUM(B8:C8) -> 2872
A9: J20-J22 Ostale akutne infekcije donjega dišnog sustava | B9: 1535 | C9: 1224 | D9: =SUM(B9:C9) -> 2759
A10: B00-B09 Virusne infekcije praćene promjenama na koži i sluznicama | B10: 928 | C10: 843 | D10: =SUM(B10:C10) -> 1771
A11: A00-A09 Crijevne zarazne bolesti | B11: 899 | C11: 779 | D11: =SUM(B11:C11) -> 1678
A12: H10-H13 Bolesti spojnice | B12: 881 | C12: 751 | D12: =SUM(B12:C12) -> 1632
A13: R00-R09 Simptomi i znakovi koji se odnose na cirkulacijski i dišni sustav | B13: 708 | C13: 580 | D13: =SUM(B13:C13) -> 1288
A14: Ostale dijagnoze | B14: =B15- SUM(B4:B13) -> 10158 | C14: =C15- SUM(C4:C13) -> 8747 | D14: =SUM(B14:C14) -> 18905
A15: Ukupno | B15: 28952 | C15: 25613 | D15: =SUM(B15:C15) -> 54565
A18: Izvor podataka: Podaci CEZIH-a za 2024. godinu. Hrvatski zavod za javno zdravstvo.
A19: Obrada: ZZJZ Međimurske županije
