Workbook

Sheet 5.2.1
A1: Broj korisnika zdravstvene zaštite i kontakata po korisniku u djelatnosti obiteljske (opće) medicine u Međimurskoj županiji u 2024. godini
A3: Dob(godine) | B3: Broj korisnika | E3: Broj kontakata
B4: M | C4: Ž | D4: Ukupno | E4: M | F4: Ž | G4: Ukupno
A5: 0-6 | B5: 2884 | C5: 2552 | D5: 5436 | E5: 19198 | F5: 17173 | G5: 36371
A6: 7-18 | B6: 5778 | C6: 5456 | D6: 11234 | E6: 35376 | F6: 34666 | G6: 70042
A7: 19-34 | B7: 8291 | C7: 8652 | D7: 16943 | E7: 58815 | F7: 72787 | G7: 131602
A8: 35-49 | B8: 9143 | C8: 9924 | D8: 19067 | E8: 95474 | F8: 128410 | G8: 223884
A9: 50-64 | B9: 9405 | C9: 10853 | D9: 20258 | E9: 151691 | F9: 197745 | G9: 349436
A10: 65-79 | B10: 8185 | C10: 9740 | D10: 17925 | E10: 181660 | F10: 226238 | G10: 407898
A11: >80 | B11: 1930 | C11: 4381 | D11: 6311 | E11: 46532 | F11: 105410 | G11: 151942
A12: ukupno | B12: 45616 | C12: 51558 | D12: 97174 | E12: 588746 | F12: 782429 | G12: 1371175
A14: Izvor podataka: Podaci CEZIH-a za 2024. godinu. Hrvatski zavod za javno zdravstvo.
A15: Obrada: ZZJZ Međimurske županije

Sheet 5.2.2
A1: Broj kontakata po korisniku u 2024. godini
A3: Dob(godine) | B3: M | C3: Ž | D3: Ukupno
A4: 0-6 | B4: ='5.2.1'!E5/'5.2.1'!B5 -> 6.6567268 | C4: ='5.2.1'!F5/'5.2.1'!C5 -> 6.729232 | D4: ='5.2.1'!G5/'5.2.1'!D5 -> 6.6907653
A5: 7-18 | B5: ='5.2.1'!E6/'5.2.1'!B6 -> 6.1225337 | C5: ='5.2.1'!F6/'5.2.1'!C6 -> 6.353739 | D5: ='5.2.1'!G6/'5.2.1'!D6 -> 6.2348229
A6: 19-34 | B6: ='5.2.1'!E7/'5.2.1'!B7 -> 7.0938367 | C6: ='5.2.1'!F7/'5.2.1'!C7 -> 8.4127369 | D6: ='5.2.1'!G7/'5.2.1'!D7 -> 7.7673375
A7: 35-49 | B7: ='5.2.1'!E8/'5.2.1'!B8 -> 10.442306 | C7: ='5.2.1'!F8/'5.2.1'!C8 -> 12.939339 | D7: ='5.2.1'!G8/'5.2.1'!D8 -> 11.741963
A8: 50-64 | B8: ='5.2.1'!E9/'5.2.1'!B9 -> 16.128761 | C8: ='5.2.1'!F9/'5.2.1'!C9 -> 18.220308 | D8: ='5.2.1'!G9/'5.2.1'!D9 -> 17.249284
A9: 65-79 | B9: ='5.2.1'!E10/'5.2.1'!B10 -> 22.194258 | C9: ='5.2.1'!F10/'5.2.1'!C10 -> 23.227721 | D9: ='5.2.1'!G10/'5.2.1'!D10 -> 22.755816
A10: >80 | B10: ='5.2.1'!E11/'5.2.1'!B11 -> 24.109845 | C10: ='5.2.1'!F11/'5.2.1'!C11 -> 24.060717 | D10: ='5.2.1'!G11/'5.2.1'!D11 -> 24.075741
A11: ukupno | B11: ='5.2.1'!E12/'5.2.1'!B12 -> 12.906568 | C11: ='5.2.1'!F12/'5.2.1'!C12 -> 15.175705 | D11: ='5.2.1'!G12/'5.2.1'!D12 -> 14.110513
A13: Izvor podataka: Podaci CEZIH-a za 2024. godinu. Hrvatski zavod za javno zdravstvo.
A14: Obrada: ZZJZ Međimurske županije

Sheet 5.2.3
A1: Pregledi u djelatnosti obiteljske (opće) medicine u Međimurskoj županiji u 2024. godini
A3: Dob(godine) | B3: Ukupan broj pregleda | E3: Broj svih posjeta i pregleda kod kuće(OM100-OM103) | H3: Od toga broj kućnih posjeta u palijativnoj skrbi(OM102-OM103)
B4: M | C4: Ž | D4: Ukupno | E4: M | F4: Ž | G4: Ukupno | H4: M | I4: Ž | J4: Ukupno
A5: 0-6 | B5: 8289 | C5: 7207 | D5: 15496 | E5: 1 | F5: 2 | G5: 3 | H5: 0 | I5: 0 | J5: 0
A6: 7-18 | B6: 10783 | C6: 10576 | D6: 21359 | E6: 1 | F6: 4 | G6: 5 | H6: 0 | I6: 0 | J6: 0
A7: 19-34 | B7: 13700 | C7: 14019 | D7: 27719 | E7: 14 | F7: 8 | G7: 22 | H7: 0 | I7: 0 | J7: 0
A8: 35-49 | B8: 16740 | C8: 20727 | D8: 37467 | E8: 75 | F8: 36 | G8: 111 | H8: 0 | I8: 5 | J8: 5
A9: 50-64 | B9: 21942 | C9: 27857 | D9: 49799 | E9: 174 | F9: 125 | G9: 299 | H9: 56 | I9: 47 | J9: 103
A10: 65-79 | B10: 20677 | C10: 25480 | D10: 46157 | E10: 520 | F10: 661 | G10: 1181 | H10: 139 | I10: 129 | J10: 268
A11: >80 | B11: 4533 | C11: 8109 | D11: 12642 | E11: 650 | F11: 1695 | G11: 2345 | H11: 88 | I11: 205 | J11: 293
A12: Ukupno | B12: 96664 | C12: 113975 | D12: 210639 | E12: 1435 | F12: 2531 | G12: 3966 | H12: 283 | I12: 386 | J12: 669
A14: Izvor podataka: Podaci CEZIH-a za 2024. godinu. Hrvatski zavod za javno zdravstvo.
A15: Obrada: ZZJZ Međimurske županije

Sheet 5.2.4
A1: Savjetovanja/konzultacije u djelatnosti obiteljske (opće) medicine u Međimurskoj županiji u 2024. godini
A3: Dob(godine) | B3: Ukupno savjetovanja | E3: Preventivna savjetovanja | H3: Kurativna savjetovanja
B4: M | C4: Ž | D4: Ukupno | E4: M | F4: Ž | G4: Ukupno | H4: M | I4: Ž | J4: Ukupno
A5: 0-6 | B5: 7422 | C5: 6893 | D5: 14315 | E5: 1995 | F5: 1872 | G5: 3867 | H5: 5427 | I5: 5021 | J5: 10448
A6: 7-18 | B6: 15994 | C6: 16174 | D6: 32168 | E6: 1583 | F6: 1402 | G6: 2985 | H6: 14411 | I6: 14772 | J6: 29183
A7: 19-34 | B7: 25091 | C7: 36064 | D7: 61155 | E7: 68 | F7: 75 | G7: 143 | H7: 25023 | I7: 35989 | J7: 61012
A8: 35-49 | B8: 36447 | C8: 56208 | D8: 92655 | E8: 64 | F8: 70 | G8: 134 | H8: 36383 | I8: 56138 | J8: 92521
A9: 50-64 | B9: 51358 | C9: 69783 | D9: 121141 | E9: 222 | F9: 162 | G9: 384 | H9: 51136 | I9: 69621 | J9: 120757
A10: 65-79 | B10: 56122 | C10: 69290 | D10: 125412 | E10: 480 | F10: 369 | G10: 849 | H10: 55642 | I10: 68921 | J10: 124563
A11: >80 | B11: 14133 | C11: 32277 | D11: 46410 | E11: 310 | F11: 358 | G11: 668 | H11: 13823 | I11: 31919 | J11: 45742
A12: Ukupno | B12: 206567 | C12: 286689 | D12: 493256 | E12: 4722 | F12: 4308 | G12: 9030 | H12: 201845 | I12: 282381 | J12: 484226
A14: *Napomena: Za 1 osobu nije poznat spol
A15: Izvor podataka: Podaci CEZIH-a za 2024. godinu. Hrvatski zavod za javno zdravstvo.
A16: Obrada: ZZJZ Međimurske županije

Sheet 5.2.5
A1: Pregledi i savjetovanja/konzultacije za djecu predškolske dobi u djelatnosti obiteljske (opće) medicine u Međimurskoj županiji u 2024. godini
A3: Dob(godine) | B3: Pregleda | E3: Savjetovanja/konzultacija
B4: Kurativnih | C4: Preventivnih | D4: Ukupno | E4: Kurativnih | F4: Preventivnih | G4: Ukupno
A5: 0 | B5: 2287 | C5: 965 | D5: 3252 | E5: 1277 | F5: 964 | G5: 2241
A6: 1 | B6: 2381 | C6: 465 | D6: 2846 | E6: 1547 | F6: 691 | G6: 2238
A7: 2 | B7: 2113 | C7: 75 | D7: 2188 | E7: 1532 | F7: 548 | G7: 2080
A8: 3 | B8: 1772 | C8: 24 | D8: 1796 | E8: 1371 | F8: 438 | G8: 1809
A9: 4 | B9: 1657 | C9: 34 | D9: 1691 | E9: 1508 | F9: 396 | G9: 1904
A10: 5 | B10: 1730 | C10: 326 | D10: 2056 | E10: 1498 | F10: 484 | G10: 1982
A11: 6 | B11: 1556 | C11: 111 | D11: 1667 | E11: 1715 | F11: 346 | G11: 2061
A12: Ukupno | B12: 13496 | C12: 2000 | D12: 15496 | E12: 10448 | F12: 3867 | G12: 14315
A14: Izvor podataka: Podaci CEZIH-a za 2024. godinu. Hrvatski zavod za javno zdravstvo.
A15: Obrada: ZZJZ Međimurske županije

Sheet 5.2.6
A1: Preventivne aktivnosti kod osoba u dobi 19 i više godina u djelatnosti obiteljske (opće) medicine u Međimurskoj županiji u 2024. godini
A3: Šifra | B3: Naziv DTP-a | C3: M | D3: Ž | E3: Ukupno
A4: OM047 | B4: "Preventivni program ""Zdravo starenje""-edukacija " | C4: 2 | D4: 1 | E4: 3
A5: OM048 | B5: "Preventivni program ""Zdravo starenje""- vježbaonica " | C5: 2 | D5: 1 | E5: 3
A6: OM049 | B6: "Preventivni program ""Prevencija raka kože"" - edukacija kojoj prethodi pregled dermatoskopom" | C6: 0 | D6: 1 | E6: 1
A7: OM050 | B7: "Preventivni program ""Prevencija raka kože"" - pregled dermatoskopom" | C7: 0 | D7: 0 | E7: 0
A8: OM051 | B8: Panel za praćenje indeksa tjelesne mase | C8: 787 | D8: 983 | E8: 1770
A9: OM053 | B9: Praćenje kardiovaskularnog rizika | C9: 2184 | D9: 2591 | E9: 4775
A10: OM054 | B10: Izračun ukupnog kardiovaskularnog rizika | C10: 0 | D10: 0 | E10: 0
A11: OM126 | B11: Edukacija o prevenciji raka dojke | C11: 0 | D11: 37 | E11: 37
A12: OM135 | B12: Glukometrija | C12: 3068 | D12: 3563 | E12: 6631
A13: OM166 | B13: Preventivni program za prevenciju prekomjerne tjelesne težine i edukacija | C13: 1529 | D13: 1913 | E13: 3442
A14: OM167 | B14: Preventivni program za prevenciju šećerne bolesti i edukacija | C14: 1501 | D14: 1857 | E14: 3358
A15: OM168 | B15: Preventivni program za prevenciju pušenja i edukacija | C15: 1756 | D15: 2003 | E15: 3759
... A27: NPP09 | B27: Upućivanje osigurane osobe na pregled pulmologa u okviru Nacionalnog programa za rano otkrivanje raka pluća | C27: 1 | D27: 3 | E27: 4
B28: Ukupno | C28: =SUM(C4:C27) -> 12026 | D28: =SUM(D4:D27) -> 14585 | E28: =SUM(E4:E27) -> 26611
A30: Izvor podataka: Podaci CEZIH-a za 2024. godinu. Hrvatski zavod za javno zdravstvo.
A31: Obrada: ZZJZ Međimurske županije

Sheet 5.2.7
A1: Dob djece u kojoj je obavljen sistematski pregled u djelatnosti obiteljske (opće) medicine u Međimurskoj županiji u 2024. godini
B3: Ukupno | C3: Dob djeteta(navršeni mjeseci/godine)
C4: 0-2 mj. | D4: 3-5 mj. | E4: 6-11 mj. | F4: 1-3 g. | G4: 4-6 g. | H4: Više od 6g.*
A5: Broj sistematskih pregleda | B5: 1726 | C5: 335 | D5: 215 | E5: 313 | F5: 485 | G5: 333 | H5: 45
A6: Broj korisnika | B6: 6197 | C6: 632 | F6: 2420 | G6: 2384 | H6: 761
A8: *7g.
A10: Izvor podataka: Podaci CEZIH-a za 2024. godinu. Hrvatski zavod za javno zdravstvo.
A11: Obrada: ZZJZ Međimurske županije

Sheet 5.2.8
A1: Broj i vrsta izdanih uputnica u djelatnosti obiteljske (opće) medicine u Međimurskoj županiji u 2024. godini
A3: Vrsta uputnice | B3: M | C3: Ž | D3: Ukupno
A4: A1 Konzilijarni pregled | B4: 25894 | C4: 31231 | D4: 57125
A5: A2 Kontrolni konzilijarni pregled | B5: 31668 | C5: 35176 | D5: 66844
A6: A3 Dijagnostička pretraga | B6: 74389 | C6: 112379 | D6: 186768
A7: A4 Drugo mišljenje prema indikaciji izabranog liječnika | B7: 119 | C7: 93 | D7: 212
A8: A5 Konzultacije (uputnica bez osigurane osobe) | B8: 1706 | C8: 2580 | D8: 4286
A9: A6 Kontrolna dijagnostička pretraga | B9: 1089 | C9: 1618 | D9: 2707
A10: B1 Bolničko liječenje | B10: 4966 | C10: 4973 | D10: 9939
A11: B2 Ponavljajuće bolničko liječenje | B11: 113 | C11: 89 | D11: 202
A12: C1 Pregled i cjelovita obrada u specijalističkoj zdravstvenoj zaštiti | B12: 268 | C12: 302 | D12: 570
A13: C2 Pregled i obrada kroz OHBP na koju upućuje izabrani doktor PZZ-a | B13: 7071 | C13: 7308 | D13: 14379
A14: C3 Prije operativna obrada za nepokretne i/ili teško pokretne pacijente | B14: 5 | C14: 6 | D14: 11
A15: D1 Ambulantno liječenje | B15: 12560 | C15: 17437 | D15: 29997
... A18: Ukupno | B18: 165097 | C18: 217729 | D18: 382826
A20: Izvor podataka: Podaci CEZIH-a za 2024. godinu. Hrvatski zavod za javno zdravstvo.
A21: Obrada: ZZJZ Međimurske županije

Sheet 5.2.9
A1: Broj izdanih uputnica po korisniku u djelatnosti obiteljske (opće) medicine u Međimurskoj županiji u 2024. godini
A3: Dob(godine) | B3: Broj korisnika | C3: Broj uputnica | D3: Broj uputnica po korisniku | E3: Broj pregleda | F3: Broj pregleda u odnosu na broj uputnica
A4: 0-6 | B4: 5436 | C4: 6891 | D4: 1.26766 | E4: 15496 | F4: 2.2487302
A5: 7-18 | B5: 11234 | C5: 22261 | D5: 1.9815738 | E5: 21359 | F5: 0.95948071
A6: 19-34 | B6: 16943 | C6: 37026 | D6: 2.1853273 | E6: 27719 | F6: 0.74863609
A7: 35-49 | B7: 19067 | C7: 62545 | D7: 3.2802748 | E7: 37467 | F7: 0.59904069
A8: 50-64 | B8: 20258 | C8: 106544 | D8: 5.2593543 | E8: 49799 | F8: 0.46740314
A9: 65-79 | B9: 17925 | C9: 120123 | D9: 6.7014226 | E9: 46157 | F9: 0.38424781
A10: >80 | B10: 6311 | C10: 27436 | D10: 4.3473301 | E10: 12642 | F10: 0.46078146
A11: Ukupno | B11: 97174 | C11: 382826 | D11: 3.9395929 | E11: 210639 | F11: 0.55022125
A15: Izvor podataka: Podaci CEZIH-a za 2024. godinu. Hrvatski zavod za javno zdravstvo.
A16: Obrada: ZZJZ Međimurske županije

Sheet 5.2.10
A1: Deset najčešćih djelatnosti u koje su se upućivali pacijenti u djelatnosti obiteljske (opće) medicine u Međimurskoj županiji u 2024. godini
A3: Djelatnost upućivanja | B3: M | D3: Ž | F3: Ukupno
B4: Broj | C4: % | D4: Broj | E4: % | F4: Broj | G4: %
A5: Medicinska biokemija | B5: 17638 | C5: =B5/165097 -> 0.10683416 | D5: 30305 | E5: =D5/217729 -> 0.13918679 | F5: 47943 | G5: =F5/382826 -> 0.12523444
A6: Radiologija (klasične i kontrastne pretrage) | B6: 13281 | C6: 0.081 | D6: 16738 | E6: =D6/217729 -> 0.076875382 | F6: 30019 | G6: =F6/382826 -> 0.078414214
A7: Medicinska mikrobiologija s parazitologijom | B7: 9714 | C7: =B7/165097 -> 0.058838138 | D7: 18879 | E7: =D7/217729 -> 0.086708707 | F7: 28593 | G7: =F7/382826 -> 0.074689284
A8: Oftalmologija | B8: 7914 | C8: =B8/165097 -> 0.047935456 | D8: 11211 | E8: 0.052 | F8: 19125 | G8: =F8/382826 -> 0.049957422
A9: Ultrazvuk | B9: 4952 | C9: =B9/165097 -> 0.029994488 | D9: 10027 | E9: =D9/217729 -> 0.046052662 | F9: 14979 | G9: =F9/382826 -> 0.039127436
A10: Fizikalna medicina i rehabilitacija | B10: 4971 | C10: =B10/165097 -> 0.030109572 | D10: 8875 | E10: =D10/217729 -> 0.040761681 | F10: 13846 | G10: =F10/382826 -> 0.036167867
A11: Ortopedija i traumatologija | B11: 4403 | C11: =B11/165097 -> 0.02666917 | D11: 6586 | E11: =D11/217729 -> 0.030248612 | F11: 10989 | G11: =F11/382826 -> 0.028704947
A12: Otorinolaringologija | B12: 5015 | C12: =B12/165097 -> 0.030376082 | D12: 5614 | E12: =D12/217729 -> 0.025784347 | F12: 10629 | G12: =F12/382826 -> 0.027764572
A13: Opća kirurgija | B13: 5528 | C13: =B13/165097 -> 0.033483346 | D13: 4860 | E13: =D13/217729 -> 0.022321326 | F13: 10388 | G13: =F13/382826 -> 0.027135043
A14: Neurologija | B14: 3875 | C14: =B14/165097 -> 0.02347105 | D14: 5930 | E14: =D14/217729 -> 0.027235692 | F14: 9805 | G14: =F14/382826 -> 0.025612158
A15: Ostalo | B15: =B16- SUM(B5:B14) -> 87806 | C15: =B15/165097 -> 0.53184492 | D15: =D16- SUM(D5:D14) -> 98704 | E15: =D15/217729 -> 0.45333419 | F15: =F16- SUM(F5:F14) -> 186510 | G15: =F15/382826 -> 0.48719261
A16: Ukupno | B16: 165097 | D16: 217729 | F16: 382826
A21: Izvor podataka: Podaci CEZIH-a za 2024. godinu. Hrvatski zavod za javno zdravstvo.
A22: Obrada: ZZJZ Međimurske županije

Sheet 5.2.11
A1: Broj izdanih recepata, po grupama, u djelatnosti obiteljske (opće) medicine u Međimurskoj županiji u 2024. godini
A3: Lijekovi | B3: M | D3: Ž | F3: Ukupno
B4: Broj | C4: % | D4: Broj | E4: % | F4: Broj | G4: %
A5: s djelovanjem na srce i krvožilje | B5: 237364 | C5: 32.60078 | D5: 297043 | E5: 28.378431 | F5: 534408* | G5: 30.110631
A6: s djelovanjem na živčani sustav | B6: 132280 | C6: 18.168009 | D6: 244138 | E6: 23.324076 | F6: 376418 | G6: 21.208858
A7: s djelovanjem na probavni sustav i mijenu tvari | B7: 120876 | C7: 16.601725 | D7: 174257 | E7: 16.7 | F7: 295133 | G7: 16.628944
A8: s djelovanjem na koštano-mišićni sustav | B8: 53606 | C8: 7.362521 | D8: 86474 | E8: 8.2614183 | F8: 140080 | G8: 7.8926536
A9: s djelovanjem na sustav dišnih organa | B9: 41465 | C9: 5.6950142 | D9: 52433 | E9: 5.0092623 | F9: 93898 | G9: 5.2905796
A10: za liječenje sustavnih infekcija (izuzev infekcija uzrokovanih parazitima) | B10: 31442 | C10: 4.3184044 | D10: 44472 | E10: 4.2486966 | F10: 75914 | G10: 4.2772909
A11: s djelovanjem na sustav žlijezda s unutarnjim lučenjem (izuzev spolnih hormona) | B11: 9411 | C11: 1.2925547 | D11: 39235 | E11: 3.7483723 | F11: 48646 | G11: 2.8
A12: s djelovanjem na osjetila | B12: 19194 | C12: 2.6362017 | D12: 25555 | E12: 2.4414338 | F12: 44749 | G12: 2.5213332
A13: s djelovanjem na kožu | B13: 18578 | C13: 2.5 | D13: 24350 | E13: 2.3263124 | F13: 42928 | G13: 2.418731
A14: s djelovanjem na krv i krvotvorne organe | B14: 19565 | C14: 2.6871567 | D14: 22774 | E14: 2.1757469 | F14: 42339 | G14: 2.3855444
A15: s djelovanjem na mokraćni sustav i spolni hormoni | B15: 23247 | C15: 3.1928614 | D15: 9197 | E15: 0.87864866 | F15: 32444 | G15: 1.8280215
A16: Različito | B16: 10592 | C16: 1.4547592 | D16: 11424 | E16: 1.0914083 | F16: 22016 | G16: 1.2404673
A17: za liječenje zloćudnih bolesti i imunomodulatori | B17: 4873 | C17: 0.66928263 | D17: 8632 | E17: 0.82467057 | F17: 13505 | G17: 0.76092438
... A19: Nepoznato | B19: 2519 | C19: 0.34597229 | D19: 2757 | E19: 0.3 | F19: 5276 | G19: 0.29727042
A20: Ukupno | B20: 728093 | C20: 100 | D20: 1046721 | E20: 100 | F20: 1,774,815* | G20: 100
A22: *Napomena: Za 1 osobu nije poznat spol
A23: Izvor podataka: Podaci CEZIH-a za 2024. godinu. Hrvatski zavod za javno zdravstvo.
A24: Obrada: ZZJZ Međimurske županije

Sheet 5.2.12
A1: Deset najčešćih izdanih recepata, po podgrupama, u djelatnosti obiteljske (opće) medicine u Međimurskoj županiji u 2024. godini
A3: Podgrupa lijekova | B3: M | D3: Ž | F3: Ukupno
B4: Broj | C4: % | D4: Broj | E4: % | F4: Broj | G4: %
A5: Anksiolitici | B5: 40792 | C5: 5.602581 | D5: 85995 | E5: 8.2156563 | F5: 126787 | G5: 7.1436741
A6: Antacidi, lijekovi za liječenje ulkusne bolesti, lijekovi s djelovanjem na peristaltiku | B6: 47423 | C6: 6.5133163 | D6: 74650 | E6: 7.1317954 | F6: 122073 | G6: 6.878069
A7: Ace inhibitori, kombinacije | B7: 49037 | C7: 6.7349913 | D7: 53768 | E7: 5.1368034 | F7: 102805 | G7: 5.7924347
A8: Pripravci koji modficiraju lipide | B8: 47823 | C8: 6.5682543 | D8: 52144 | E8: 4.9816522 | F8: 99967 | G8: 5.6325307
A9: Derivati propionske kiseline | B9: 35850 | C9: 4.9238215 | D9: 61875 | E9: 5.9113173 | F9: 97725 | G9: 5.5062077
A10: Blokatori beta-adrenergičkih receptora | B10: 38525 | C10: 5.2912197 | D10: 56491 | E10: 5.3969491 | F10: 95016 | G10: 5.3535721
A11: Opijatni analgetici (opioidi) | B11: 27060 | C11: 3.7165582 | D11: 53515 | E11: 5.1126327 | F11: 80575 | G11: 4.5399098
A12: Oralni lijekovi za snižavanje glukoze u krvi, bez inzulina | B12: 38400 | C12: 5.2740515 | D12: 36149 | E12: 3.4535468 | F12: 74549 | G12: 4.2003814
A13: Antidepresivi | B13: 17088 | C13: 2.3469529 | D13: 41140 | E13: 3.9303692 | F13: 58228 | G13: 3.2807926
A14: Diuretici | B14: 25086 | C14: 3.445439 | D14: 31946 | E14: 3.0520072 | F14: 57032 | G14: 3.2134053
A15: Ostalo | B15: 361009 | C15: 49.582814 | D15: 499048 | E15: 47.67727 | F15: 860,058* | G15: 48.459022
A16: Ukupno | B16: 728093 | C16: 100 | D16: 1046721 | E16: 100 | F16: 1,774,815* | G16: 100
A18: *Napomena: Za 1 osobu nije poznat spol
A19: Izvor podataka: Podaci CEZIH-a za 2024. godinu. Hrvatski zavod za javno zdravstvo.
A20: Obrada: ZZJZ Međimurske županije

Sheet 5.2.13
A1: Broj zabilježenih dijagnoza u djelatnosti obiteljske (opće) medicine u Međimurskoj županiji u 2024. godini
A3: MKB-10 dijagnoza | C3: Muški | D3: Ženski | E3: Ukupno | F3: Udio (%)
A4: A00-B99 | B4: Zarazne i parazitarne bolesti | C4: 9243 | D4: 11965 | E4: 21208 | F4: 3.3704097
A5: C00-D48 | B5: Novotvorine | C5: 7110 | D5: 8341 | E5: 15451 | F5: 2.455498
A6: D50-D89 | B6: Bolesti krvi i krvotvornog sustava, te određene bolesti imunosnog sustava | C6: 2184 | D6: 4361 | E6: 6545 | F6: 1.040142
A7: E00-E90 | B7: Endokrine bolesti, bolesti prehrane i bolesti metabolizma | C7: 18516 | D7: 30870 | E7: 49386 | F7: 7.8485032
A8: F00-F99 | B8: Mentalni poremećaji i poremećaji ponašanja | C8: 10190 | D8: 20579 | E8: 30769 | F8: 4.8898594
A9: G00-G99 | B9: Bolesti živčanog sustava | C9: 4630 | D9: 6984 | E9: 11614 | F9: 1.8457157
A10: H00-H59 | B10: Bolesti oka i očnih adneksa | C10: 8425 | D10: 12865 | E10: 21290 | F10: 3.3834413
A11: H60-H95 | B11: Bolesti uha i mastoidnog nastavka | C11: 6934 | D11: 8434 | E11: 15368 | F11: 2.4423075
A12: I00-I99 | B12: Bolesti cirkulacijskog sustava | C12: 28498 | D12: 33600 | E12: 62099* | F12: 9.8688738
A13: J00-J99 | B13: Bolesti dišnoga sustava | C13: 29376 | D13: 36035 | E13: 65411 | F13: 10.395222
A14: K00-K93 | B14: Bolesti probavnoga sustava | C14: 13536 | D14: 18265 | E14: 31801 | F14: 5.0538665
A15: L00-L99 | B15: Bolesti kože i potkožnoga tkiva | C15: 12314 | D15: 17680 | E15: 29994 | F15: 4.7666951
A16: M00-M99 | B16: Bolesti mišićno-koštanog sustava i vezivnoga tkiva | C16: 26369 | D16: 46032 | E16: 72401 | F16: 11.506084
A17: N00-N99 | B17: Bolesti genitourinarnog sustava | C17: 11506 | D17: 18589 | E17: 30095 | F17: 4.7827462
A18: O00-O99 | B18: Trudnoća, porođaj i babinje | C18: 4 | D18: 199 | E18: 203 | F18: 0.032261089
A19: P00-P96 | B19: Određena stanja nastala u perinatalnom razdoblju | C19: 98 | D19: 106 | E19: 204 | F19: 0.032420011
A20: Q00-Q99 | B20: Prirođene malformacije, deformiteti i kromosomske abnormalnosti | C20: 456 | D20: 417 | E20: 873 | F20: 0.13873858
A21: R00-R99 | B21: Simptomi, znakovi i abnormalni klinički i laboratorijski nalazi nesvrstani drugamo | C21: 21899 | D21: 33994 | E21: 55893 | F21: 8.8826062
A22: S00-T98 | B22: Ozljede, otrovanja i ostale posljedice vanjskih uzroka | C22: 12389 | D22: 9428 | E22: 21817 | F22: 3.467193
A23: U00-U85 | B23: Šifre za posebne namjene | C23: 3209 | D23: 4082 | E23: 7291 | F23: 1.1586975
A24: Z00-Z99 | B24: Čimbenici koji utječu na stanje zdravlja i kontakt sa zdravstvenom službom | C24: 36046 | D24: 43482 | E24: 79528 | F24: 12.638719
A25: Ukupno | C25: 262932 | D25: 366308 | E25: 629241* | F25: 100
A26: V01-Y98 | B26: Vanjski uzroci morbiditeta i mortaliteta | C26: 12661 | D26: 10305 | E26: 22966
A29: *Napomena: Za 1 osobu nije poznat spol
A30: Izvor podataka: Podaci CEZIH-a za 2024. godinu. Hrvatski zavod za javno zdravstvo.
A31: Obrada: ZZJZ Međimurske županije

Sheet 5.2.14
A1: Najčešće zabilježene dijagnoze u djelatnosti obiteljske (opće) medicine u Međimurskoj županiji u 2024. godini
A3: Naziv dijagnoza i MKB šifra | B3: Muški | C3: Ženski | D3: Ukupno
A4: Z00-Z13 Osobe koje se koriste zdravstvenom službom zbog pregleda i istraživanja | B4: 18101 | C4: 19816 | D4: 37917
A5: J00-J06 Akutne infekcije gornjega dišnog sustava | B5: 16662 | C5: 21240 | D5: 37902
A6: M50-M54 ostale dorzopatije | B6: 13531 | C6: 22873 | D6: 36404
A7: I10-I15 Hipertenzivne bolesti | B7: 15630 | C7: 19193 | D7: 34.824* | E7: 1
A8: K20-K31 Bolesti jednjaka, želudca i dvanaesnika | B8: 7383 | C8: 11929 | D8: 19312
A9: Z20-Z29 Osobe s potencijalnom opasnošću po zdravlje zbog zaraznih bolesti | B9: 8299 | C9: 10724 | D9: 19023
A10: E70-E90 Metabolički poremećaji | B10: 8351 | C10: 9944 | D10: 18295
A11: R50-R69 Opći simptomi i znakovi | B11: 7310 | C11: 10762 | D11: 18072
A12: R00-R09 Simptomi i znakovi koji se odnose na cirkulacijski i dišni sustav | B12: 6696 | C12: 9231 | D12: 15927
A13: N30-N39 Druge bolesti urinarnog sustava | B13: 2990 | C13: 12651 | D13: 15641
A14: Ostale dijagnoze | B14: 170640 | C14: 228250 | D14: 398890
A15: Ukupno | B15: 275593 | C15: 376613 | D15: 652.207*
A18: *Napomena: Za 1 osobu nije poznat spol
A19: Izvor podataka: Podaci CEZIH-a za 2024. godinu. Hrvatski zavod za javno zdravstvo.
A20: Obrada: ZZJZ Međimurske županije
